BEGIN:VCALENDAR
VERSION:2.0
PRODID:-//Association faune et flore de l&#039;Orne - ECPv6.15.20//NONSGML v1.0//EN
CALSCALE:GREGORIAN
METHOD:PUBLISH
X-WR-CALNAME:Association faune et flore de l&#039;Orne
X-ORIGINAL-URL:https://www.affo-nature.org
X-WR-CALDESC:Évènements pour Association faune et flore de l&#039;Orne
REFRESH-INTERVAL;VALUE=DURATION:PT1H
X-Robots-Tag:noindex
X-PUBLISHED-TTL:PT1H
BEGIN:VTIMEZONE
TZID:Europe/Paris
BEGIN:DAYLIGHT
TZOFFSETFROM:+0100
TZOFFSETTO:+0200
TZNAME:CEST
DTSTART:20250330T010000
END:DAYLIGHT
BEGIN:STANDARD
TZOFFSETFROM:+0200
TZOFFSETTO:+0100
TZNAME:CET
DTSTART:20251026T010000
END:STANDARD
BEGIN:DAYLIGHT
TZOFFSETFROM:+0100
TZOFFSETTO:+0200
TZNAME:CEST
DTSTART:20260329T010000
END:DAYLIGHT
BEGIN:STANDARD
TZOFFSETFROM:+0200
TZOFFSETTO:+0100
TZNAME:CET
DTSTART:20261025T010000
END:STANDARD
BEGIN:DAYLIGHT
TZOFFSETFROM:+0100
TZOFFSETTO:+0200
TZNAME:CEST
DTSTART:20270328T010000
END:DAYLIGHT
BEGIN:STANDARD
TZOFFSETFROM:+0200
TZOFFSETTO:+0100
TZNAME:CET
DTSTART:20271031T010000
END:STANDARD
END:VTIMEZONE
BEGIN:VEVENT
DTSTART;TZID=Europe/Paris:20260327T200000
DTEND;TZID=Europe/Paris:20260327T213000
DTSTAMP:20260421T103152
CREATED:20251230T092453Z
LAST-MODIFIED:20251230T102253Z
UID:5525-1774641600-1774647000@www.affo-nature.org
SUMMARY:Les amphibiens de la carrière de Belle-Eau
DESCRIPTION:Animée par Cyrille BIEGALA\, Élie BODIN et Léa CAILLY – RDV à 20h à la carrière de Belle-Eau à Argentan \nPrévoir une lampe de poche
URL:https://www.affo-nature.org/evenement/les-amphibiens-de-la-carriere-de-belle-eau/
CATEGORIES:Sorties nature
END:VEVENT
END:VCALENDAR