BEGIN:VCALENDAR
VERSION:2.0
PRODID:-//Association faune et flore de l&#039;Orne - ECPv6.15.20//NONSGML v1.0//EN
CALSCALE:GREGORIAN
METHOD:PUBLISH
X-WR-CALNAME:Association faune et flore de l&#039;Orne
X-ORIGINAL-URL:https://www.affo-nature.org
X-WR-CALDESC:Évènements pour Association faune et flore de l&#039;Orne
REFRESH-INTERVAL;VALUE=DURATION:PT1H
X-Robots-Tag:noindex
X-PUBLISHED-TTL:PT1H
BEGIN:VTIMEZONE
TZID:Europe/Paris
BEGIN:DAYLIGHT
TZOFFSETFROM:+0100
TZOFFSETTO:+0200
TZNAME:CEST
DTSTART:20250330T010000
END:DAYLIGHT
BEGIN:STANDARD
TZOFFSETFROM:+0200
TZOFFSETTO:+0100
TZNAME:CET
DTSTART:20251026T010000
END:STANDARD
BEGIN:DAYLIGHT
TZOFFSETFROM:+0100
TZOFFSETTO:+0200
TZNAME:CEST
DTSTART:20260329T010000
END:DAYLIGHT
BEGIN:STANDARD
TZOFFSETFROM:+0200
TZOFFSETTO:+0100
TZNAME:CET
DTSTART:20261025T010000
END:STANDARD
BEGIN:DAYLIGHT
TZOFFSETFROM:+0100
TZOFFSETTO:+0200
TZNAME:CEST
DTSTART:20270328T010000
END:DAYLIGHT
BEGIN:STANDARD
TZOFFSETFROM:+0200
TZOFFSETTO:+0100
TZNAME:CET
DTSTART:20271031T010000
END:STANDARD
END:VTIMEZONE
BEGIN:VEVENT
DTSTART;TZID=Europe/Paris:20260411T090000
DTEND;TZID=Europe/Paris:20260411T120000
DTSTAMP:20260420T141923
CREATED:20251230T101218Z
LAST-MODIFIED:20251230T102057Z
UID:5536-1775898000-1775908800@www.affo-nature.org
SUMMARY:Les chants des oiseaux printaniers
DESCRIPTION:Animée par Éric PERRET – RDV à 9h devant l’église de Sainte-Honorine-la-Chardonne \nPrévoir une paire de jumelles
URL:https://www.affo-nature.org/evenement/les-chants-des-oiseaux-printaniers/
CATEGORIES:Sorties nature
END:VEVENT
BEGIN:VEVENT
DTSTART;TZID=Europe/Paris:20260411T140000
DTEND;TZID=Europe/Paris:20260411T170000
DTSTAMP:20260420T141923
CREATED:20251230T101404Z
LAST-MODIFIED:20251230T101404Z
UID:5538-1775916000-1775926800@www.affo-nature.org
SUMMARY:Plantes comestibles de nos campagnes
DESCRIPTION:Animée par Christine QUÉNAON – RDV à 14h devant l’église de Pontchardon
URL:https://www.affo-nature.org/evenement/plantes-comestibles-de-nos-campagnes/
CATEGORIES:Sorties nature
END:VEVENT
END:VCALENDAR