BEGIN:VCALENDAR
VERSION:2.0
PRODID:-//Association faune et flore de l&#039;Orne - ECPv6.15.20//NONSGML v1.0//EN
CALSCALE:GREGORIAN
METHOD:PUBLISH
X-WR-CALNAME:Association faune et flore de l&#039;Orne
X-ORIGINAL-URL:https://www.affo-nature.org
X-WR-CALDESC:Évènements pour Association faune et flore de l&#039;Orne
REFRESH-INTERVAL;VALUE=DURATION:PT1H
X-Robots-Tag:noindex
X-PUBLISHED-TTL:PT1H
BEGIN:VTIMEZONE
TZID:Europe/Paris
BEGIN:DAYLIGHT
TZOFFSETFROM:+0100
TZOFFSETTO:+0200
TZNAME:CEST
DTSTART:20240331T010000
END:DAYLIGHT
BEGIN:STANDARD
TZOFFSETFROM:+0200
TZOFFSETTO:+0100
TZNAME:CET
DTSTART:20241027T010000
END:STANDARD
BEGIN:DAYLIGHT
TZOFFSETFROM:+0100
TZOFFSETTO:+0200
TZNAME:CEST
DTSTART:20250330T010000
END:DAYLIGHT
BEGIN:STANDARD
TZOFFSETFROM:+0200
TZOFFSETTO:+0100
TZNAME:CET
DTSTART:20251026T010000
END:STANDARD
BEGIN:DAYLIGHT
TZOFFSETFROM:+0100
TZOFFSETTO:+0200
TZNAME:CEST
DTSTART:20260329T010000
END:DAYLIGHT
BEGIN:STANDARD
TZOFFSETFROM:+0200
TZOFFSETTO:+0100
TZNAME:CET
DTSTART:20261025T010000
END:STANDARD
END:VTIMEZONE
BEGIN:VEVENT
DTSTART;TZID=Europe/Paris:20250112T100000
DTEND;TZID=Europe/Paris:20250112T170000
DTSTAMP:20260421T232334
CREATED:20241218T104024Z
LAST-MODIFIED:20241218T104146Z
UID:5014-1736676000-1736701200@www.affo-nature.org
SUMMARY:Découverte des lichens
DESCRIPTION:Par David VAUDORE. RDV à 10h au parking de l’église de Carrouges \n 
URL:https://www.affo-nature.org/evenement/decouverte-des-lichens/
CATEGORIES:École ornaise de la nature
END:VEVENT
END:VCALENDAR